BEGIN:VCALENDAR
VERSION:2.0
PRODID:-//Tooro Kingdom - ECPv6.15.13.1//NONSGML v1.0//EN
CALSCALE:GREGORIAN
METHOD:PUBLISH
X-ORIGINAL-URL:https://toorokingdom.org
X-WR-CALDESC:Events for Tooro Kingdom
REFRESH-INTERVAL;VALUE=DURATION:PT1H
X-Robots-Tag:noindex
X-PUBLISHED-TTL:PT1H
BEGIN:VTIMEZONE
TZID:Africa/Kampala
BEGIN:STANDARD
TZOFFSETFROM:+0300
TZOFFSETTO:+0300
TZNAME:EAT
DTSTART:20240101T000000
END:STANDARD
END:VTIMEZONE
BEGIN:VEVENT
DTSTART;TZID=Africa/Kampala:20250808T170000
DTEND;TZID=Africa/Kampala:20250808T233000
DTSTAMP:20260423T070811
CREATED:20250725T093947Z
LAST-MODIFIED:20250725T093947Z
UID:2653-1754672400-1754695800@toorokingdom.org
SUMMARY:Royal Dinner
DESCRIPTION:Tooro Kingdom is hosting a Royal Dinner on Friday\, August 8th\, 2025\, at the Four Points by Sheraton Hotel\, Kampala\, starting at 6PM. \nJoin us for a discussion themed: “Embracing Tradition\, Inspiring Tomorrow: The Tooro We Desire\,” where we will share insights to shape the future of our kingdom. \nEnjoy performances by our home-based artists while engaging in meaningful discussions over a three-course meal and drinks.
URL:https://toorokingdom.org/event/royal-dinner/
LOCATION:Four Points by Sheraton\, Kampala\, Kampala\, Uganda
CATEGORIES:Conference,Festival
ATTACH;FMTTYPE=image/jpeg:https://toorokingdom.org/wp-content/uploads/2025/07/Tooro-Royal-dinner.jpeg
ORGANIZER;CN="Tooro Kingdom":MAILTO:info@toorokingdom.org
END:VEVENT
BEGIN:VEVENT
DTSTART;VALUE=DATE:20250718
DTEND;VALUE=DATE:20250719
DTSTAMP:20260423T070811
CREATED:20250626T125052Z
LAST-MODIFIED:20250626T125052Z
UID:2525-1752796800-1752883199@toorokingdom.org
SUMMARY:Tooro Annual Youth Conference 2025
DESCRIPTION:Theme: We Speak\, We Lead: Cultural Young Voices Driving Change for a Just Uganda \nDate: July 18th\, 2025 \nVenue: Mucwa\, Kabarole\, Fort Portal Tourism City \nHosted by: Rukirabasaija Omukama \nOrganized by: Ministry of Education\, Youth and Sports. \nThis conference is a build-up event for the Pearl Anniversary celebrations of Rukirabasaija Omukama’s Empango. \nTooro Annual Youth Conference 2025 is a transformative event that celebrates youth leadership and advocates for youth inclusion and empowerment. \nThe conference aims to: \n\nAmplify youth voices in national and regional dialogues on SRHR\, employment\, and gender justice.\nStrengthen cultural leadership in advancing sexuality education and youth-friendly health services.\nPromote sustainability by embedding youth advocacy and learning into cultural and community structures.\n\nKey discussion themes will include Sexual and Reproductive Health and Rights (SRHR)\, Nutrition and Maternal & Child Health\, Youth Employment and Skills Development\, and Gender-Based Violence (GBV) and Harmful Practices. \nJoin us for a day of insightful discussions\, cultural performances\, and the development of a Cultural Declaration on SRHR and Gender Justice.
URL:https://toorokingdom.org/event/tooro-annual-youth-conference-2025/
LOCATION:Mucwa\, Kabarole\, Fort Portal Tourism City
CATEGORIES:Conference
ORGANIZER;CN="Tooro Kingdom":MAILTO:info@toorokingdom.org
END:VEVENT
END:VCALENDAR